BEGIN:VCALENDAR
VERSION:2.0
PRODID:-//eventon.com NONSGML v1.0//EN
BEGIN:VEVENT
UID:69e5eec8afd71
DTSTAMP:20260420T091552
DTSTART:20240412T170000Z
DTEND:20240412T200000Z
TZID:UTC
LOCATION:
SUMMARY:Detour Golf
DESCRIPTION: Detour Golf\nhttps://ruirusportsclub.co.ke/events/detour-golf/
URL:https://ruirusportsclub.co.ke/events/detour-golf/
END:VEVENT
END:VCALENDAR